BEGIN:VCALENDAR
VERSION:2.0
PRODID:-//ChamberMaster//Event Calendar 2.0//EN
METHOD:PUBLISH
X-PUBLISHED-TTL:P3D
REFRESH-INTERVAL:P3D
CALSCALE:GREGORIAN
BEGIN:VEVENT
DTSTART:20220405T153000Z
DTEND:20220405T173000Z
X-MICROSOFT-CDO-ALLDAYEVENT:FALSE
SUMMARY:Games of CornHole Event at Jack's Place
DESCRIPTION:The Chamber would like to invite you to Jack's Place at Chili Country Club\, for a luncheon\, networking and Corn Hole games event.
X-ALT-DESC;FMTTYPE=text/html:The Chamber would like to invite you to Jack&#39\;s Place at Chili Country Club\, for a luncheon\, networking and Corn Hole games event.
LOCATION:Jack's Place at Chili Country Club
UID:e.1849.358
SEQUENCE:3
DTSTAMP:20260422T010308Z
URL:https://www.gcchamber.com/events/details/games-of-cornhole-event-at-jack-s-place-358
END:VEVENT

END:VCALENDAR
